BEGIN:VCALENDAR
VERSION:2.0
PRODID:-//Verein für Landschaftspflege, Artenschutz und Biodiversität e.V. - ECPv6.15.17.1//NONSGML v1.0//EN
CALSCALE:GREGORIAN
METHOD:PUBLISH
X-ORIGINAL-URL:https://www.landschaft-artenschutz.de
X-WR-CALDESC:Veranstaltungen für Verein für Landschaftspflege, Artenschutz und Biodiversität e.V.
REFRESH-INTERVAL;VALUE=DURATION:PT1H
X-Robots-Tag:noindex
X-PUBLISHED-TTL:PT1H
BEGIN:VTIMEZONE
TZID:Europe/Berlin
BEGIN:DAYLIGHT
TZOFFSETFROM:+0100
TZOFFSETTO:+0200
TZNAME:CEST
DTSTART:20180325T010000
END:DAYLIGHT
BEGIN:STANDARD
TZOFFSETFROM:+0200
TZOFFSETTO:+0100
TZNAME:CET
DTSTART:20181028T010000
END:STANDARD
BEGIN:DAYLIGHT
TZOFFSETFROM:+0100
TZOFFSETTO:+0200
TZNAME:CEST
DTSTART:20190331T010000
END:DAYLIGHT
BEGIN:STANDARD
TZOFFSETFROM:+0200
TZOFFSETTO:+0100
TZNAME:CET
DTSTART:20191027T010000
END:STANDARD
BEGIN:DAYLIGHT
TZOFFSETFROM:+0100
TZOFFSETTO:+0200
TZNAME:CEST
DTSTART:20200329T010000
END:DAYLIGHT
BEGIN:STANDARD
TZOFFSETFROM:+0200
TZOFFSETTO:+0100
TZNAME:CET
DTSTART:20201025T010000
END:STANDARD
END:VTIMEZONE
BEGIN:VEVENT
DTSTART;TZID=Europe/Berlin:20190901T150000
DTEND;TZID=Europe/Berlin:20190901T180000
DTSTAMP:20260424T185459
CREATED:20190824T090058Z
LAST-MODIFIED:20190824T090112Z
UID:6179-1567350000-1567360800@www.landschaft-artenschutz.de
SUMMARY:VLAB Stammtisch Kulmbach
DESCRIPTION:Bettina Marofke\, VLAB-Regionalbeauftragte für Oberfranken\, lädt Mitglieder und Nichtmitglieder am Sonntag\, 1. September zu einem Naturschutzstammtisch in den Kommunbräu\, Grünwehr 17 in Kulmbach ein. \nBeginn ist um 15 Uhr\, Ende gegen 18 Uhr
URL:https://www.landschaft-artenschutz.de/event/vlab-stammtisch-kulmbach-4/
LOCATION:Kommunbräu Kulmbach\, Grünwehr 17\, Kulmbach\, 95326
END:VEVENT
END:VCALENDAR