BEGIN:VCALENDAR
VERSION:2.0
PRODID:-//Verein für Landschaftspflege, Artenschutz und Biodiversität e.V. - ECPv6.15.17.1//NONSGML v1.0//EN
CALSCALE:GREGORIAN
METHOD:PUBLISH
X-WR-CALNAME:Verein für Landschaftspflege, Artenschutz und Biodiversität e.V.
X-ORIGINAL-URL:https://www.landschaft-artenschutz.de
X-WR-CALDESC:Veranstaltungen für Verein für Landschaftspflege, Artenschutz und Biodiversität e.V.
REFRESH-INTERVAL;VALUE=DURATION:PT1H
X-Robots-Tag:noindex
X-PUBLISHED-TTL:PT1H
BEGIN:VTIMEZONE
TZID:Europe/Berlin
BEGIN:DAYLIGHT
TZOFFSETFROM:+0100
TZOFFSETTO:+0200
TZNAME:CEST
DTSTART:20180325T010000
END:DAYLIGHT
BEGIN:STANDARD
TZOFFSETFROM:+0200
TZOFFSETTO:+0100
TZNAME:CET
DTSTART:20181028T010000
END:STANDARD
BEGIN:DAYLIGHT
TZOFFSETFROM:+0100
TZOFFSETTO:+0200
TZNAME:CEST
DTSTART:20190331T010000
END:DAYLIGHT
BEGIN:STANDARD
TZOFFSETFROM:+0200
TZOFFSETTO:+0100
TZNAME:CET
DTSTART:20191027T010000
END:STANDARD
BEGIN:DAYLIGHT
TZOFFSETFROM:+0100
TZOFFSETTO:+0200
TZNAME:CEST
DTSTART:20200329T010000
END:DAYLIGHT
BEGIN:STANDARD
TZOFFSETFROM:+0200
TZOFFSETTO:+0100
TZNAME:CET
DTSTART:20201025T010000
END:STANDARD
END:VTIMEZONE
BEGIN:VEVENT
DTSTART;TZID=Europe/Berlin:20190414T150000
DTEND;TZID=Europe/Berlin:20190414T190000
DTSTAMP:20260425T013129
CREATED:20190409T214734Z
LAST-MODIFIED:20190409T214734Z
UID:5805-1555254000-1555268400@www.landschaft-artenschutz.de
SUMMARY:VLAB Stammtisch Kulmbach
DESCRIPTION:Zu einem VLAB Stammtisch in Kulmbach lädt Bettina Marofke\, VLAB Regionalbeauftragte für Oberfranken\, herzlich ein. \nAuch Nichtmitglieder sind willkommen. \nWann: Sonntag\, 14. April\nZeit: 15:00 Uhr\nWo: Kommunbräu\, Grünwehr 17\, 95326 Kulmbach \n 
URL:https://www.landschaft-artenschutz.de/event/vlab-stammtisch-kulmbach-3/
LOCATION:Kommunbräu Kulmbach\, Grünwehr 17\, Kulmbach\, 95326
END:VEVENT
END:VCALENDAR