BEGIN:VCALENDAR
VERSION:2.0
PRODID:-//Verein für Landschaftspflege, Artenschutz und Biodiversität e.V. - ECPv6.15.17.1//NONSGML v1.0//EN
CALSCALE:GREGORIAN
METHOD:PUBLISH
X-ORIGINAL-URL:https://www.landschaft-artenschutz.de
X-WR-CALDESC:Veranstaltungen für Verein für Landschaftspflege, Artenschutz und Biodiversität e.V.
REFRESH-INTERVAL;VALUE=DURATION:PT1H
X-Robots-Tag:noindex
X-PUBLISHED-TTL:PT1H
BEGIN:VTIMEZONE
TZID:Europe/Berlin
BEGIN:DAYLIGHT
TZOFFSETFROM:+0100
TZOFFSETTO:+0200
TZNAME:CEST
DTSTART:20170326T010000
END:DAYLIGHT
BEGIN:STANDARD
TZOFFSETFROM:+0200
TZOFFSETTO:+0100
TZNAME:CET
DTSTART:20171029T010000
END:STANDARD
BEGIN:DAYLIGHT
TZOFFSETFROM:+0100
TZOFFSETTO:+0200
TZNAME:CEST
DTSTART:20180325T010000
END:DAYLIGHT
BEGIN:STANDARD
TZOFFSETFROM:+0200
TZOFFSETTO:+0100
TZNAME:CET
DTSTART:20181028T010000
END:STANDARD
BEGIN:DAYLIGHT
TZOFFSETFROM:+0100
TZOFFSETTO:+0200
TZNAME:CEST
DTSTART:20190331T010000
END:DAYLIGHT
BEGIN:STANDARD
TZOFFSETFROM:+0200
TZOFFSETTO:+0100
TZNAME:CET
DTSTART:20191027T010000
END:STANDARD
END:VTIMEZONE
BEGIN:VEVENT
DTSTART;TZID=Europe/Berlin:20180315T193000
DTEND;TZID=Europe/Berlin:20180315T220000
DTSTAMP:20260425T193326
CREATED:20180306T102015Z
LAST-MODIFIED:20180306T102015Z
UID:4910-1521142200-1521151200@www.landschaft-artenschutz.de
SUMMARY:Stammtisch der Kreisgruppe Forchheim/Erlangen-Höchstadt
DESCRIPTION:Am Donnerstag\, den 15. März 2018 lädt um 19.30 Uhr die VLAB Kreisgruppe Forchheim/Erlangen/Erlangen-Höchstadt zu einem Stammtisch ein. In gemütlicher Runde sollen Umwelt- und Naturschutzthemen aus der Region ausgetauscht und besprochen werden. \nWir bitten darum\, die Möglichkeit zum Abendessen oder für einen Imbiss zu nutzen\, da wir für den Stammtisch einen Tisch im Nebenraum des griechischen Restaurants Estiatorio Alexandros reserviert haben. \n 
URL:https://www.landschaft-artenschutz.de/event/stammtisch-der-kreisgruppe-forchheim-erlangen-hoechstadt/
LOCATION:Restaurant Estiatorio Alexandros\, Hornschuchallee 32\, Forchheim\, 91301\, Deutschland
END:VEVENT
END:VCALENDAR