BEGIN:VCALENDAR
VERSION:2.0
PRODID:-//Verein für Landschaftspflege, Artenschutz und Biodiversität e.V. - ECPv6.15.17.1//NONSGML v1.0//EN
CALSCALE:GREGORIAN
METHOD:PUBLISH
X-ORIGINAL-URL:https://www.landschaft-artenschutz.de
X-WR-CALDESC:Veranstaltungen für Verein für Landschaftspflege, Artenschutz und Biodiversität e.V.
REFRESH-INTERVAL;VALUE=DURATION:PT1H
X-Robots-Tag:noindex
X-PUBLISHED-TTL:PT1H
BEGIN:VTIMEZONE
TZID:Europe/Berlin
BEGIN:DAYLIGHT
TZOFFSETFROM:+0100
TZOFFSETTO:+0200
TZNAME:CEST
DTSTART:20170326T010000
END:DAYLIGHT
BEGIN:STANDARD
TZOFFSETFROM:+0200
TZOFFSETTO:+0100
TZNAME:CET
DTSTART:20171029T010000
END:STANDARD
BEGIN:DAYLIGHT
TZOFFSETFROM:+0100
TZOFFSETTO:+0200
TZNAME:CEST
DTSTART:20180325T010000
END:DAYLIGHT
BEGIN:STANDARD
TZOFFSETFROM:+0200
TZOFFSETTO:+0100
TZNAME:CET
DTSTART:20181028T010000
END:STANDARD
BEGIN:DAYLIGHT
TZOFFSETFROM:+0100
TZOFFSETTO:+0200
TZNAME:CEST
DTSTART:20190331T010000
END:DAYLIGHT
BEGIN:STANDARD
TZOFFSETFROM:+0200
TZOFFSETTO:+0100
TZNAME:CET
DTSTART:20191027T010000
END:STANDARD
END:VTIMEZONE
BEGIN:VEVENT
DTSTART;TZID=Europe/Berlin:20180204T150000
DTEND;TZID=Europe/Berlin:20180204T180000
DTSTAMP:20260425T210052
CREATED:20180124T103119Z
LAST-MODIFIED:20180124T104919Z
UID:4744-1517756400-1517767200@www.landschaft-artenschutz.de
SUMMARY:VLAB Stammtisch Oberfranken
DESCRIPTION:Zum ersten VLAB Stammtisch des neuen Jahres lädt Sie herzlich unsere Regionalbeauftragte für Oberfranken\, Frau Bettina Marofke\, ein. \nMitglieder und noch nicht Mitglieder sind willkommen. \nBitte beachten Sie die neue Örtlichkeit. Der Stammtisch findet erstmalig im Schlösslas Biergarten/Bistro in Kulmbach statt!
URL:https://www.landschaft-artenschutz.de/event/vlab-stammtisch-oberfranken-4/
LOCATION:Schlösslas Biergarten / BISTRO\, Aichiger Weg 2\, Kulmbach\, 95326\, Deutschland
END:VEVENT
BEGIN:VEVENT
DTSTART;TZID=Europe/Berlin:20180222T193000
DTEND;TZID=Europe/Berlin:20180222T223000
DTSTAMP:20260425T210052
CREATED:20180205T083426Z
LAST-MODIFIED:20180205T083426Z
UID:4846-1519327800-1519338600@www.landschaft-artenschutz.de
SUMMARY:Stammtisch Kreisgruppe Forchheim/Erlangen/Erlangen-Höchstadt
DESCRIPTION:Die VLAB-Kreisgruppe Forchheim/Erlangen/Erlangen-Höchstadt lädt am Donnerstag\, 22. Februar 2018 nach Forchheim in das Restaurant Estiatorio Alexandros ein. \nBeginn ist um 19.30 Uhr. Es wird gebeten\, die Möglichkeit zum Abendessen oder für einen Imbiss zu nutzen\, da für den VLAB-Stammtisch ein Tisch im Nebenraum des griechischen Restaurants reserviert wurde. \nWir freuen uns auf Sie!
URL:https://www.landschaft-artenschutz.de/event/stammtisch-kreisgruppe-forchheim-erlangen-erlangen-hoechstadt/
LOCATION:Restaurant Estiatorio Alexandros\, Hornschuchallee 32\, Forchheim\, 91301\, Deutschland
END:VEVENT
END:VCALENDAR