BEGIN:VCALENDAR
VERSION:2.0
PRODID:-//Verein für Landschaftspflege, Artenschutz und Biodiversität e.V. - ECPv6.15.17.1//NONSGML v1.0//EN
CALSCALE:GREGORIAN
METHOD:PUBLISH
X-ORIGINAL-URL:https://www.landschaft-artenschutz.de
X-WR-CALDESC:Veranstaltungen für Verein für Landschaftspflege, Artenschutz und Biodiversität e.V.
REFRESH-INTERVAL;VALUE=DURATION:PT1H
X-Robots-Tag:noindex
X-PUBLISHED-TTL:PT1H
BEGIN:VTIMEZONE
TZID:Europe/Berlin
BEGIN:DAYLIGHT
TZOFFSETFROM:+0100
TZOFFSETTO:+0200
TZNAME:CEST
DTSTART:20210328T010000
END:DAYLIGHT
BEGIN:STANDARD
TZOFFSETFROM:+0200
TZOFFSETTO:+0100
TZNAME:CET
DTSTART:20211031T010000
END:STANDARD
BEGIN:DAYLIGHT
TZOFFSETFROM:+0100
TZOFFSETTO:+0200
TZNAME:CEST
DTSTART:20220327T010000
END:DAYLIGHT
BEGIN:STANDARD
TZOFFSETFROM:+0200
TZOFFSETTO:+0100
TZNAME:CET
DTSTART:20221030T010000
END:STANDARD
BEGIN:DAYLIGHT
TZOFFSETFROM:+0100
TZOFFSETTO:+0200
TZNAME:CEST
DTSTART:20230326T010000
END:DAYLIGHT
BEGIN:STANDARD
TZOFFSETFROM:+0200
TZOFFSETTO:+0100
TZNAME:CET
DTSTART:20231029T010000
END:STANDARD
END:VTIMEZONE
BEGIN:VEVENT
DTSTART;TZID=Europe/Berlin:20221119T100000
DTEND;TZID=Europe/Berlin:20221119T170000
DTSTAMP:20260421T144249
CREATED:20220308T094418Z
LAST-MODIFIED:20221113T180736Z
UID:7315-1668852000-1668877200@www.landschaft-artenschutz.de
SUMMARY:Symposium: Arten- und Landschaftsschutz versus Energiewende
DESCRIPTION:Mit der Verstümmelung einer Landschaft geht viel mehr verloren als ein idyllischer oder romantischer Hintergrund. Es geht ein Teil von dem verloren\, was den Sinn des Lebens ausmacht. (Johan Huizinga\, niederländischer Humanist und Kulturhistoriker) \nWir befinden uns an einem Scheideweg. Industrie\, Gewerbe\, Haushalte\, E-Mobilität und steigende Bevölkerungszahlen benötigen immer mehr Energien. Parallel dazu gerät die Energieversorgung auf Grund des Ukrainekrieges und der beschlossenen Maßnahmen zur Reduzierung der CO2 Emissionen in große Gefahr. Der mit unserem Konsum verbundene Ressourcenverbrauch steigt steil an\, während sich die Erderwärmung nahezu ungebremst fortsetzt. \nFührende Politiker und Wirtschaftsverbände fordern daher\, den Ausbau der erneuerbaren Energien zu „entfesseln“ und „radikal zu beschleunigen“. Sie erklären den Ausbau von Erneuerbaren Energien als  im “überragenden öffentlichen Interesse“ liegend\, schaffen neue Gesetze und ändern bestehende Rechtsvorschriften\, die der verstärkten Errichtung Erneuerbarer Energieanlagen dienen sollen. Starke Beeinträchtigungen bis hin zur Zerstörung der noch verbliebenen Kulturlandschaften und das überregionale Aussterben geschützter Arten werden billigend in Kauf genommen. Wie in der Werbung werden neue Wörter wie “Freiheitsenergien” geschaffen\, um die Produkte “Windkraft” und “Photovoltaik” undifferenziert positiv zu bewerten und um Kritik an ihrem flächigen Ausbau im Keim zu ersticken. \nWerden der gleichermaßen wichtige Klima- und Naturschutz gegeneinander ausgespielt\, und leben wir künftig in einem “Land ohne Landschaft” mit einer eingeschränkten Artenvielfalt? Welche Auswirkungen hat das auf den sozialen Frieden und die Lebensqualität der Menschen? \nIn dem Symposium am 19. November im Umweltzentrum Schloss Wiesenfelden sollen viele dieser drängenden Fragen erörtert werden. Experten aus den Fachrichtungen Ökologie\, Denkmalpflege\, Planungsrecht\, Landschaftsästhetik\, Natur- und Technikphilosophie präsentieren ihre Sichtweise in Vorträgen und diskutieren im Anschluss mit den Teilnehmerinnen und Teilnehmern des Symposiums darüber. \nProgramm\n10:00 – 10:05: Begrüßung durch Johannes Bradtka\, 1. Vorsitzender VLAB \n10:10 – 11:10: Erneuerbare Energien: „Freiheits- und Friedensenergien“ oder das Aus für Natur- und Landschaftsschutz? Anmerkungen zu den Inhalten eines finalen Konflikts. Dr. Wolfgang Epple\, Zoologe & Evolutionsbiologe\, wissenschaftlicher Beirat der Naturschutzinitiative e.V. (NI). \n11:15 – 12:15:  Technischer Wohlstand oder gutes Leben für alle? – Technikphilosophische Betrachtungen zur technokratischen Vision der Lösung der Klimaprobleme. Prof. Dr. Stefan Bauberger SJ\, Professor für Naturphilosophie\, Grenzfragen der Naturwissenschaft und Wissenschaftstheorie\, Hochschule für Philosophie München. \n12:20 – 13:05: Aktuelle rechtliche Behandlung von Windkraftanlagen und aktuelle Änderungen vor und nach Regierungswechsel – Genehmigungsverfahren/Rechtsbehelfe. Armin Brauns\, Anwalt für öffentliches Bau-\, Planungs- und Immissionsschutzrecht. \n13:15 – 14.30 Mittagspause\n14:45 – 15:45: Die historische Kulturlandschaft und die neue Energielandschaft Bayerns – Herausforderungen aus denkmalpflegerischer Sicht. Prof. Dr. Thomas Gunzelmann\, Referatsleiter für Denkmalforschung\, Städtebauliches Erbe und Welterbe (Bau)\, Bayerisches Landesamt für Denkmalpflege\, Honorarprofessor an der Universität Bamberg \n15:50 – 16:50: Heimat als Fundamentalkonzept der Landschaftsästhetik. Prof. Dr. Werner Nohl\, Landschaftsarchitekt\, ehemaliger öffentlich bestellter Sachverständiger für Landschaftsästhetik und Erholungswesen\, Honorarprofessor an der Technischen Universität München. \n16:55 – 17:00: Abschluss\, Johannes Bradtka \nModeration\nDr. jur. Maximilian Häußler\, München \nZielgruppen\nVLAB-Mitglieder\, Landschaftsplaner\, Heimat- und Denkmalpfleger\, Vertreter*innen von Bürgerinitiativen\, politische und behördliche Entscheider\, ehren- und hauptamtliche Mitarbeiter*innen von Landschaftspflege- und Naturschutzvereinigungen. \nAnmeldung\nan veranstaltungen@landschaft-artenschutz.de. Anmeldeschluss ist Montag\, der 14. November. \nNach erfolgter Anmeldung und Bestätigung durch unsere Geschäftsstelle ist ein Unkostenbeitrag von 30 € auf folgendes Konto zu überweisen\, Stichwort Symposium: \nIBAN: DE13770697640000418986 \nBIC: GENODEF1KEM \nRaiffeisenbank Kemnather Land-Steinwald eG \nNach Zahlungseingang ist die Anmeldung gültig. \nDie Teilnehmenden erhalten nach dem Symposium eine illustrierte Druckschrift mit den Kompendien aller Vorträge per Post übersandt.
URL:https://www.landschaft-artenschutz.de/event/symposium-arten-und-landschaftsschutz-versus-energiewende/
LOCATION:Umweltzentrum Schloss Wiesenfelden\, Straubinger Str. 5\, Wiesenfelden\, Bayern\, 94344\, Deutschland
ATTACH;FMTTYPE=image/jpeg:https://www.landschaft-artenschutz.de/wp-content/uploads/Energiewende-Deutschland.jpg
END:VEVENT
END:VCALENDAR