BEGIN:VCALENDAR
VERSION:2.0
PRODID:-//Verein für Landschaftspflege, Artenschutz und Biodiversität e.V. - ECPv6.15.17.1//NONSGML v1.0//EN
CALSCALE:GREGORIAN
METHOD:PUBLISH
X-WR-CALNAME:Verein für Landschaftspflege, Artenschutz und Biodiversität e.V.
X-ORIGINAL-URL:https://www.landschaft-artenschutz.de
X-WR-CALDESC:Veranstaltungen für Verein für Landschaftspflege, Artenschutz und Biodiversität e.V.
REFRESH-INTERVAL;VALUE=DURATION:PT1H
X-Robots-Tag:noindex
X-PUBLISHED-TTL:PT1H
BEGIN:VTIMEZONE
TZID:Europe/Berlin
BEGIN:DAYLIGHT
TZOFFSETFROM:+0100
TZOFFSETTO:+0200
TZNAME:CEST
DTSTART:20180325T010000
END:DAYLIGHT
BEGIN:STANDARD
TZOFFSETFROM:+0200
TZOFFSETTO:+0100
TZNAME:CET
DTSTART:20181028T010000
END:STANDARD
BEGIN:DAYLIGHT
TZOFFSETFROM:+0100
TZOFFSETTO:+0200
TZNAME:CEST
DTSTART:20190331T010000
END:DAYLIGHT
BEGIN:STANDARD
TZOFFSETFROM:+0200
TZOFFSETTO:+0100
TZNAME:CET
DTSTART:20191027T010000
END:STANDARD
BEGIN:DAYLIGHT
TZOFFSETFROM:+0100
TZOFFSETTO:+0200
TZNAME:CEST
DTSTART:20200329T010000
END:DAYLIGHT
BEGIN:STANDARD
TZOFFSETFROM:+0200
TZOFFSETTO:+0100
TZNAME:CET
DTSTART:20201025T010000
END:STANDARD
END:VTIMEZONE
BEGIN:VEVENT
DTSTART;TZID=Europe/Berlin:20191013T100000
DTEND;TZID=Europe/Berlin:20191013T123000
DTSTAMP:20260423T165440
CREATED:20190528T054326Z
LAST-MODIFIED:20190918T183916Z
UID:5950-1570960800-1570969800@www.landschaft-artenschutz.de
SUMMARY:Jubiläumsexkursion: Waldwirtschaft im Einklang mit der Natur
DESCRIPTION:Wir feiern in diesem Jahr unser zehnjähriges Bestehen und laden Sie zu einer Jubiläums-Exkursion in den Wäldern des Naturparks Steinwald ein. \nNaturschutz und Waldbewirtschaftung müssen sich nicht ausschließen. Dies zeigen Ihnen in einer rund 2\,5 stündigen Wanderung der Vorsitzende des Naturparks Steinwald Eberhard Freiherr von Gemmingen-Hornberg\, unsere Naturschutzreferentin Michaela Domeyer und Johannes Bradtka an einigen interessanten Beispielen. \nDie Wanderstrecke ist gut begehbar\, stellenweise mäßig steil und ca. 4 km lang. Bitte an geeignetes Schuhwerk und Bekleidung denken. Die Exkursion findet bei jeder Witterung statt. \nSonntag\, 13. Oktober\, Beginn: 10 Uhr – Ende gegen 12:30 Uhr \nTreffpunkt: Wanderparkplatz Zimmerplatz auf der Staatsstraße 2121 Friedenfels in Richtung Poppenreuth-Marktredwitzer Haus (roter Kreis siehe Karte). \nDie Exkursion ist kostenfrei. Alle Natur- und Waldliebhaber sind eingeladen. \n 
URL:https://www.landschaft-artenschutz.de/event/jubilaeumsexkursion-waldwirtschaft-im-einklang-mit-der-natur/
CATEGORIES:Exkursion
END:VEVENT
END:VCALENDAR